<?xml version="1.0"?>
<Capabilities xmlns="http://www.opengis.net/wmts/1.0" xmlns:ows="http://www.opengis.net/ows/1.1" xmlns:xlink="http://www.w3.org/1999/xlink" xmlns:xsi="http://www.w3.org/2001/XMLSchema-instance" xmlns:gml="http://www.opengis.net/gml" xsi:schemaLocation="http://www.opengis.net/wmts/1.0 http://schemas.opengis.net/wmts/1.0/wmtsGetCapabilities_response.xsd" version="1.0.0">
  <ows:ServiceIdentification>
    <ows:Title>WMTS_SH_ALKIS</ows:Title>
    <ows:Abstract>Flächendeckende Beschreibung der Angaben zu den Layern "Flurstücke", "Gebäude" sowie zu den Gruppierungen "Tatsächliche Nutzung" und "Gesetzliche Festlegungen" gemäß der entsprechenden Objektbereiche im ALKIS-Objektartenkatalog. Die Gruppierung "Weiteres" ist optional und enthält die Objektbereiche "Bauwerke und Einrichtungen" sowie "Relief". Alle ALKIS-Objekte des Grunddatenbestandes (ausser Grenzpunkte und Netzpunkte) sind Pflichtinhalte. Alle weiteren ALKIS-Objekte können optional geführt werden. Die Präsentation der ALKIS-Daten erfolgt grundsätzlich nach dem ALKIS-Signaturenkatalog für AdV-Standardausgaben. Soweit im Signaturenkatalog festgelegt, stehen für alle Layer Darstellungen in Farbe zur Verfügung. Für "Flurstücke" und "Gebäude" werden zusätzlich Darstellungen in Grausstufen (entsprechend Signaturenkatalog) und in Gelb (keine Flächendarstellung, nur Konturen) angeboten.</ows:Abstract>
    <ows:Keywords>
        <ows:Keyword>WMS</ows:Keyword>
        <ows:Keyword>Landesamt für Vermessung ung Geoinformation Schleswig-Holstein</ows:Keyword>
        <ows:Keyword>LVermGeo SH</ows:Keyword>
        <ows:Keyword>AdV</ows:Keyword>
        <ows:Keyword>ALKIS</ows:Keyword>
        <ows:Keyword>opendata</ows:Keyword>
    </ows:Keywords>
    <ows:ServiceType>OGC WMTS</ows:ServiceType>
    <ows:ServiceTypeVersion>1.0.0</ows:ServiceTypeVersion>
    <ows:Fees>Für die Nutzung der Daten ist die Creative Commons (CC BY 4.0) – Namensnennung 4.0 International anzuwenden. Die Lizenz ist über  http://creativecommons.org/licenses/by/4.0 abrufbar. Der Quellenvermerk lautet "© GeoBasis-DE/LVermGeo SH/CC BY 4.0" ||{"id":"cc-by/4.0","name":"Creative Commons Namensnennung – 4.0 International (CC BY 4.0)","url":"http://creativecommons.org/licenses/by/4.0/","quelle":"© GeoBasis-DE/LVermGeo SH/CC BY 4.0"}</ows:Fees>
    <ows:AccessConstraints>NONE</ows:AccessConstraints>
  </ows:ServiceIdentification>
  <ows:ServiceProvider>
    <ows:ProviderName>Landesamt für Vermessung und Geoinformation Schleswig-Holstein (LVermGeo SH)</ows:ProviderName>
    <ows:ProviderSite xlink:href="http://www.schleswig-holstein.de/DE/Landesregierung/LVERMGEOSH/lvermgeosh_node.html"/>
    <ows:ServiceContact>
      <ows:IndividualName>Servicestelle Geoserver</ows:IndividualName>
      <ows:PositionName></ows:PositionName>
      <ows:ContactInfo>
        <ows:Phone>
          <ows:Voice>+49 (0)431 383-2019</ows:Voice>
          <ows:Facsimile>+49 (0)431 988624-2019</ows:Facsimile>
        </ows:Phone>
        <ows:Address>
          <ows:DeliveryPoint>Landesamt für Vermessung und Geoinformation Schleswig-Holstein (LVermGeo SH)</ows:DeliveryPoint>
          <ows:City>Kiel</ows:City>
          <ows:PostalCode>24106</ows:PostalCode>
          <ows:Country>Germany</ows:Country>
          <ows:ElectronicMailAddress>Geoserver@LVermGeo.landsh.de</ows:ElectronicMailAddress>
        </ows:Address>
      </ows:ContactInfo>
    </ows:ServiceContact>
  </ows:ServiceProvider>
  <Contents>
    <Layer>
      <ows:Title>SH_ALKIS</ows:Title>
      <ows:Abstract></ows:Abstract>
      <ows:WGS84BoundingBox>
        <ows:LowerCorner>0.10594674240568917 45.237542736025574</ows:LowerCorner>
        <ows:UpperCorner>20.448891294525673 56.84787345153812</ows:UpperCorner>
      </ows:WGS84BoundingBox>
      <ows:Identifier>SH_ALKIS</ows:Identifier>
      <Style>
        <ows:Identifier>default</ows:Identifier>
        <LegendURL
          format="image/png"
          xlink:href="https://dienste.gdi-sh.de//WMTS_SH_ALKIS_OpenGBD/service?service=WMS&amp;request=GetLegendGraphic&amp;version=1.3.0&amp;format=image%2Fpng&amp;layer=SH_ALKIS"
        />
      </Style>
      <Format>image/png</Format>
      <TileMatrixSetLink>
        <TileMatrixSet>DE_EPSG_25832_ADV</TileMatrixSet>
      </TileMatrixSetLink>
      <ResourceURL format="image/png" resourceType="tile"
        template="https://dienste.gdi-sh.de//WMTS_SH_ALKIS_OpenGBD/wmts/SH_ALKIS/{TileMatrixSet}/{TileMatrix}/{TileCol}/{TileRow}.png"/>
    </Layer>
    <TileMatrixSet>
      <ows:Identifier>DE_EPSG_25832_ADV</ows:Identifier>
      <ows:SupportedCRS>EPSG:25832</ows:SupportedCRS>
      <TileMatrix>
        <ows:Identifier>00</ows:Identifier>
        <ScaleDenominator>4265.4591676995715</ScaleDenominator>
        <TopLeftCorner>-46133.17 6301219.54</TopLeftCorner>
        <TileWidth>256</TileWidth>
        <TileHeight>256</TileHeight>
        <MatrixWidth>4096</MatrixWidth>
        <MatrixHeight>4096</MatrixHeight>
      </TileMatrix>
      <TileMatrix>
        <ows:Identifier>01</ows:Identifier>
        <ScaleDenominator>2132.729583849782</ScaleDenominator>
        <TopLeftCorner>-46133.17 6301219.54</TopLeftCorner>
        <TileWidth>256</TileWidth>
        <TileHeight>256</TileHeight>
        <MatrixWidth>8192</MatrixWidth>
        <MatrixHeight>8192</MatrixHeight>
      </TileMatrix>
      <TileMatrix>
        <ows:Identifier>02</ows:Identifier>
        <ScaleDenominator>1066.3647919248929</ScaleDenominator>
        <TopLeftCorner>-46133.17 6301219.54</TopLeftCorner>
        <TileWidth>256</TileWidth>
        <TileHeight>256</TileHeight>
        <MatrixWidth>16384</MatrixWidth>
        <MatrixHeight>16384</MatrixHeight>
      </TileMatrix>
    </TileMatrixSet>
  </Contents>
  <ServiceMetadataURL xlink:href="https://dienste.gdi-sh.de//WMTS_SH_ALKIS_OpenGBD/wmts/1.0.0/WMTSCapabilities.xml"/>
</Capabilities>